BEGIN:VCALENDAR
VERSION:2.0
PRODID:-//Green World - ECPv6.2.9//NONSGML v1.0//EN
CALSCALE:GREGORIAN
METHOD:PUBLISH
X-WR-CALNAME:Green World
X-ORIGINAL-URL:https://greenworld.co.za/home
X-WR-CALDESC:Events for Green World
REFRESH-INTERVAL;VALUE=DURATION:PT1H
X-Robots-Tag:noindex
X-PUBLISHED-TTL:PT1H
BEGIN:VTIMEZONE
TZID:Europe/Helsinki
BEGIN:DAYLIGHT
TZOFFSETFROM:+0200
TZOFFSETTO:+0300
TZNAME:EEST
DTSTART:20240331T010000
END:DAYLIGHT
BEGIN:STANDARD
TZOFFSETFROM:+0300
TZOFFSETTO:+0200
TZNAME:EET
DTSTART:20241027T010000
END:STANDARD
END:VTIMEZONE
BEGIN:VEVENT
DTSTART;TZID=Europe/Helsinki:20240608T080000
DTEND;TZID=Europe/Helsinki:20240608T130000
DTSTAMP:20260421T082059
CREATED:20240522T080531Z
LAST-MODIFIED:20240522T080531Z
UID:2379-1717833600-1717851600@greenworld.co.za
SUMMARY:OPP OPPORTUNITY MEGA PRESENTATION
DESCRIPTION:
URL:https://greenworld.co.za/home/event/opp-opportunity-mega-presentation/
LOCATION:Green World Johannesburg Head Office\, First Floor\, 23 Wellington Road\, Parktown\, Johannesburg\, Gauteng\, 2193\, South Africa
CATEGORIES:Mega Presentation,OOP Mega Presentation
ATTACH;FMTTYPE=image/jpeg:https://greenworld.co.za/home/wp-content/uploads/2024/05/Colorful-Fun-International-Youth-Day-Poster-.jpg
ORGANIZER;CN="Green World":MAILTO:greenworld.johannesburg@gmail.com
END:VEVENT
BEGIN:VEVENT
DTSTART;TZID=Europe/Helsinki:20240622T110000
DTEND;TZID=Europe/Helsinki:20240622T150000
DTSTAMP:20260421T082059
CREATED:20240606T110046Z
LAST-MODIFIED:20240606T110512Z
UID:2441-1719054000-1719068400@greenworld.co.za
SUMMARY:Mega Presentation
DESCRIPTION:“Empowering a sustainable future\, one green choice at a time.” \nWe are looking for people who have a high dedication to society & humanity.
URL:https://greenworld.co.za/home/event/mega-presentation-2/
LOCATION:Elim Chavani village ( Apostolic Faith Mission /AFM)\, johannesburg\, South Africa
CATEGORIES:Mega Presentation
ATTACH;FMTTYPE=image/png:https://greenworld.co.za/home/wp-content/uploads/2024/06/Black-White-Modern-Photography-Studio-Flyer2.png
ORGANIZER;CN="Green World":MAILTO:greenworld.johannesburg@gmail.com
END:VEVENT
END:VCALENDAR